BEGIN:VCALENDAR
VERSION:2.0
PRODID:-//Drupal iCal API//EN
X-WR-CALNAME:Events items teaser
X-WR-TIMEZONE:America/Toronto
BEGIN:VTIMEZONE
TZID:America/Toronto
X-LIC-LOCATION:America/Toronto
BEGIN:DAYLIGHT
TZNAME:EDT
TZOFFSETFROM:-0500
TZOFFSETTO:-0400
DTSTART:20260308T070000
END:DAYLIGHT
BEGIN:STANDARD
TZNAME:EST
TZOFFSETFROM:-0400
TZOFFSETTO:-0500
DTSTART:20251102T060000
END:STANDARD
END:VTIMEZONE
BEGIN:VEVENT
UID:69e6d64a04af1
DTSTART;TZID=America/Toronto:20260504T100000
SEQUENCE:0
TRANSP:TRANSPARENT
DTEND;TZID=America/Toronto:20260504T110000
URL:https://uwaterloo.ca/computer-science/events/masters-thesis-presentatio
 n-ai-ml-information-extraction-for-low-resource-schemas
LOCATION:DC - William G. Davis Computer Research Centre 200 University Aven
 ue West Hybrid: DC 2310 | Online master’s thesis presentation Waterloo O
 N N2L 3G1 Canada
SUMMARY:Master’s Thesis Presentation • Artificial Intelligence | Machin
 e\nLearning • Information Extraction for Low-Resource Schemas
CLASS:PUBLIC
DESCRIPTION:PLEASE NOTE: THIS MASTER’S THESIS PRESENTATION WILL TAKE PLAC
 E IN DC\n2310 AND ONLINE.\n\nJUSTIN XU\, MASTER’S CANDIDATE\n_David R. C
 heriton School of Computer Science_\n\nSUPERVISOR: Professor Pascal Poupar
 t
DTSTAMP:20260421T014338Z
END:VEVENT
BEGIN:VEVENT
UID:69e6d64a05f81
DTSTART;TZID=America/Toronto:20260430T120000
SEQUENCE:0
TRANSP:TRANSPARENT
DTEND;TZID=America/Toronto:20260430T130000
URL:https://uwaterloo.ca/computer-science/events/seminar-software-engineeri
 ng-towards-ethically-sourced-code-generation
LOCATION:DC - William G. Davis Computer Research Centre 200 University Aven
 ue West DC 1304 Waterloo ON N2L 3G1 Canada
SUMMARY:Seminar • Software Engineering • Towards Ethically Sourced Code
 \nGeneration
CLASS:PUBLIC
DESCRIPTION:PLEASE NOTE: THIS SEMINAR WILL TAKE PLACE IN DC 1304.\n\nSHIN H
 WEI TAN\, ASSOCIATE PROFESSOR (GINA CODY RESEARCH CHAIR)\n_Department of C
 omputer Science and Software Engineering\, Concordia\nUniversity_
DTSTAMP:20260421T014338Z
END:VEVENT
BEGIN:VEVENT
UID:69e6d64a06d62
DTSTART;TZID=America/Toronto:20260422T120000
SEQUENCE:0
TRANSP:TRANSPARENT
DTEND;TZID=America/Toronto:20260422T130000
URL:https://uwaterloo.ca/computer-science/events/seminar-algorithms-and-com
 plexity-improved-lower-bounds-for-privacy-under-continual-release
LOCATION:DC - William G. Davis Computer Research Centre 200 University Aven
 ue West Hybrid: DC 1304 | Online seminar Waterloo ON N2L 3G1 Canada
SUMMARY:Seminar • Algorithms and Complexity • Improved Lower Bounds for
 \nPrivacy under Continual Release
CLASS:PUBLIC
DESCRIPTION:PLEASE NOTE: THIS SEMINAR WILL TAKE PLACE IN DC 1304 AND ONLINE
 .\n\nBARDIYA ARYANFARD\, PHD STUDENT\n_Institute of Science and Technology
  Austria_
DTSTAMP:20260421T014338Z
END:VEVENT
BEGIN:VEVENT
UID:69e6d64a07843
DTSTART;TZID=America/Toronto:20260430T100000
SEQUENCE:0
TRANSP:TRANSPARENT
DTEND;TZID=America/Toronto:20260430T110000
URL:https://uwaterloo.ca/computer-science/events/phd-seminar-hci-bare-hand-
 continuous-vr-locomotion-beyond-fov-unimanual-gestures-around-head-mounted
 -display
LOCATION:DC - William G. Davis Computer Research Centre 200 University Aven
 ue West Online PhD seminar Waterloo ON N2L 3G1 Canada
SUMMARY:PhD Seminar • Human–Computer Interaction • Bare-Hand Continuo
 us\nVR Locomotion Using Beyond-Field-of-View Unimanual Gestures Around the
 \nHead-Mounted Display (HMD)
CLASS:PUBLIC
DESCRIPTION:PLEASE NOTE: THIS PHD SEMINAR WILL TAKE PLACE ONLINE.\n\nSHAIKH
  SHAWON AREFIN SHIMON\, PHD CANDIDATE\n_David R. Cheriton School of Comput
 er Science_\n\nSUPERVISOR: Professor Jian Zhao
DTSTAMP:20260421T014338Z
END:VEVENT
BEGIN:VEVENT
UID:69e6d64a0849a
DTSTART;TZID=America/Toronto:20260504T120000
SEQUENCE:0
TRANSP:TRANSPARENT
DTEND;TZID=America/Toronto:20260504T130000
URL:https://uwaterloo.ca/computer-science/events/phd-seminar-bioinformatics
 -ai-ml-chemflm-fingerprint-language-models-for-del-protein-binder-predicti
 on
LOCATION:DC - William G. Davis Computer Research Centre 200 University Aven
 ue West Hybrid: DC 2314 | Online PhD seminar Waterloo ON N2L 3G1 Canada
SUMMARY:PhD Seminar • Bioinformatics\, AI | ML • ChemFLM: Fingerprint\n
 Language Models for DEL Protein Binder Prediction
CLASS:PUBLIC
DESCRIPTION:PLEASE NOTE: THIS PHD SEMINAR WILL TAKE PLACE IN DC 2314 AND ON
 LINE.\n\nBING HU\, PHD CANDIDATE\n_David R. Cheriton School of Computer Sc
 ience_\n\nSUPERVISORS: Professors Anita Layton\, Helen Chen
DTSTAMP:20260421T014338Z
END:VEVENT
BEGIN:VEVENT
UID:69e6d64a092c7
DTSTART;TZID=America/Toronto:20260423T140000
SEQUENCE:0
TRANSP:TRANSPARENT
DTEND;TZID=America/Toronto:20260423T150000
URL:https://uwaterloo.ca/computer-science/events/phd-seminar-se-fuzzslice-p
 runing-false-positives-in-static-analysis-warnings-through-function-level-
 fuzzing
LOCATION:DC - William G. Davis Computer Research Centre 200 University Aven
 ue West DC 2310 Waterloo ON N2L 3G1 Canada
SUMMARY:PhD Seminar • Software Engineering • FuzzSlice: Pruning False\n
 Positives in Static Analysis Warnings Through Function-Level Fuzzing
CLASS:PUBLIC
DESCRIPTION:PLEASE NOTE: THIS PHD SEMINAR WILL TAKE PLACE IN DC 2310.\n\nAN
 IRUDDHAN MURALI\, PHD CANDIDATE\n_David R. Cheriton School of Computer Sci
 ence_\n\nSUPERVISOR: Professor Mei Nagappan
DTSTAMP:20260421T014338Z
END:VEVENT
BEGIN:VEVENT
UID:69e6d64a09ff0
DTSTART;TZID=America/Toronto:20260427T140000
SEQUENCE:0
TRANSP:TRANSPARENT
DTEND;TZID=America/Toronto:20260427T150000
URL:https://uwaterloo.ca/computer-science/events/phd-seminar-software-engin
 eering-sniptest-fuzzing-multi-level-code-slices-for-validating-vulnerabili
 ties
LOCATION:DC - William G. Davis Computer Research Centre 200 University Aven
 ue West DC 2310 Waterloo ON N2L 3G1 Canada
SUMMARY:PhD Seminar • Software Engineering • SnipTest: Fuzzing Multi-Le
 vel\nCode Slices for Validating Vulnerabilities
CLASS:PUBLIC
DESCRIPTION:PLEASE NOTE: THIS PHD SEMINAR WILL TAKE PLACE IN DC 2310.\n\nAN
 IRUDDHAN MURALI\, PHD CANDIDATE\n_David R. Cheriton School of Computer Sci
 ence_\n\nSUPERVISOR: Professor Mei Nagappan
DTSTAMP:20260421T014338Z
END:VEVENT
BEGIN:VEVENT
UID:69e6d64a0ae05
DTSTART;TZID=America/Toronto:20260424T103000
SEQUENCE:0
TRANSP:TRANSPARENT
DTEND;TZID=America/Toronto:20260424T113000
URL:https://uwaterloo.ca/computer-science/events/phd-seminar-software-engin
 eering-addresswatcher-sanitizer-based-localization-of-memory-leak-fixes
LOCATION:DC - William G. Davis Computer Research Centre 200 University Aven
 ue West DC 2310 Waterloo ON N2L 3G1 Canada
SUMMARY:PhD Seminar • Software Engineering • AddressWatcher: Sanitizer\
 nbased Localization of Memory Leak Fixes
CLASS:PUBLIC
DESCRIPTION:PLEASE NOTE: THIS PHD SEMINAR WILL TAKE PLACE IN DC 2310.\n\nAN
 IRUDDHAN MURALI\, PHD CANDIDATE\n_David R. Cheriton School of Computer Sci
 ence_\n\nSUPERVISOR: Professor Mei Nagappan
DTSTAMP:20260421T014338Z
END:VEVENT
BEGIN:VEVENT
UID:69e6d64a0ba12
DTSTART;TZID=America/Toronto:20260420T140000
SEQUENCE:0
TRANSP:TRANSPARENT
DTEND;TZID=America/Toronto:20260420T150000
URL:https://uwaterloo.ca/computer-science/events/masters-thesis-presentatio
 n-formal-methods-prophecy-variables-and-invariants-in-the-move-prover
LOCATION:DC - William G. Davis Computer Research Centre 200 University Aven
 ue West Hybrid: DC 2310 | Online master’s thesis presentation Waterloo O
 N N2L 3G1 Canada
SUMMARY:Master’s Thesis Presentation • Formal Methods • Prophecy\nVar
 iables and Invariants in the Move Prover
CLASS:PUBLIC
DESCRIPTION:PLEASE NOTE: THIS MASTER’S THESIS PRESENTATION WILL TAKE PLAC
 E IN DC\n2310 AND ONLINE.\n\nDAO BO YANG\, MASTER'S CANDIDATE\n_David R. C
 heriton School of Computer Science_\n\nSUPERVISORS: Professors Arie Gurfin
 kel\, Richard Trefler
DTSTAMP:20260421T014338Z
END:VEVENT
BEGIN:VEVENT
UID:69e6d64a0c50e
DTSTART;TZID=America/Toronto:20260512T100000
SEQUENCE:0
TRANSP:TRANSPARENT
DTEND;TZID=America/Toronto:20260512T110000
URL:https://uwaterloo.ca/computer-science/events/masters-thesis-presentatio
 n-algorithms-and-complexity-computing-and-bounding-scattering-number-of-gr
 aphs
LOCATION:DC - William G. Davis Computer Research Centre 200 University Aven
 ue West Online master’s thesis presentation Waterloo ON N2L 3G1 Canada
SUMMARY:Master’s Thesis Presentation • Algorithms and Complexity •\nC
 omputing and Bounding the Scattering Number of Graphs
CLASS:PUBLIC
DESCRIPTION:PLEASE NOTE: THIS MASTER’S THESIS PRESENTATION WILL TAKE PLAC
 E\nONLINE.\n\nDINIS ARSÉNIO NUNES VITORINO\, MASTER’S CANDIDATE\n_David
  R. Cheriton School of Computer Science_\n\nSUPERVISOR: Professor Therese 
 Biedl
DTSTAMP:20260421T014338Z
END:VEVENT
END:VCALENDAR