BEGIN:VCALENDAR
VERSION:2.0
PRODID:-//Drupal iCal API//EN
X-WR-CALNAME:Events items teaser
X-WR-TIMEZONE:America/Toronto
BEGIN:VTIMEZONE
TZID:America/Toronto
X-LIC-LOCATION:America/Toronto
BEGIN:DAYLIGHT
TZNAME:EDT
TZOFFSETFROM:-0500
TZOFFSETTO:-0400
DTSTART:20200308T070000
END:DAYLIGHT
BEGIN:STANDARD
TZNAME:EST
TZOFFSETFROM:-0400
TZOFFSETTO:-0500
DTSTART:20191103T060000
END:STANDARD
END:VTIMEZONE
BEGIN:VEVENT
UID:69e87a62b7455
DTSTART;TZID=America/Toronto:20200310T170000
SEQUENCE:0
TRANSP:TRANSPARENT
DTEND;TZID=America/Toronto:20200310T190000
URL:https://uwaterloo.ca/computer-science/events/computer-graphics-behind-s
 cenes-look-development-vfx-gaming-industry
LOCATION:E7 - Engineering 7 200 University Ave West 4417 Waterloo ON N2L 3G
 1 Canada
SUMMARY:Computer Graphics • Behind the Scenes Look at Development for VFX
  &amp;\nGaming Industry
CLASS:PUBLIC
DESCRIPTION:Mark Elendt and Jeff Lait are two Academy Award winning develop
 ers at\nSideFX who have a long history in the industry. They will be\ndisc
 ussing the unique challenges involved in developing 3D tools for\nartists 
 and what it’s like to be a software developer in this very\nexciting ind
 ustry.
DTSTAMP:20260422T073602Z
END:VEVENT
END:VCALENDAR