BEGIN:VCALENDAR
VERSION:2.0
PRODID:-//Drupal iCal API//EN
X-WR-CALNAME:Events items teaser
X-WR-TIMEZONE:America/Toronto
BEGIN:VTIMEZONE
TZID:America/Toronto
X-LIC-LOCATION:America/Toronto
BEGIN:DAYLIGHT
TZNAME:EDT
TZOFFSETFROM:-0500
TZOFFSETTO:-0400
DTSTART:20190310T070000
END:DAYLIGHT
BEGIN:STANDARD
TZNAME:EST
TZOFFSETFROM:-0400
TZOFFSETTO:-0500
DTSTART:20191103T060000
END:STANDARD
END:VTIMEZONE
BEGIN:VEVENT
UID:69eb5ca0baff9
DTSTART;TZID=America/Toronto:20200302T103000
SEQUENCE:0
TRANSP:TRANSPARENT
DTEND;TZID=America/Toronto:20200302T103000
URL:https://uwaterloo.ca/computer-science/events/seminar-cryptography-secur
 ity-privacy-securing-modern-systems
LOCATION:DC - William G. Davis Computer Research Centre 200 University Aven
 ue West 1304 Waterloo ON N2L 3G1 Canada
SUMMARY:Seminar • Cryptography\, Security\, and Privacy (CrySP) — Secur
 ing\nModern Systems
CLASS:PUBLIC
DESCRIPTION:ARAVIND MACHIRY\, DEPARTMENT OF COMPUTER SCIENCE\n_University o
 f California\, Santa Barbara_
DTSTAMP:20260424T120552Z
END:VEVENT
END:VCALENDAR