BEGIN:VCALENDAR
VERSION:2.0
PRODID:-//Drupal iCal API//EN
X-WR-CALNAME:Events items teaser
X-WR-TIMEZONE:America/Toronto
BEGIN:VTIMEZONE
TZID:America/Toronto
X-LIC-LOCATION:America/Toronto
BEGIN:DAYLIGHT
TZNAME:EDT
TZOFFSETFROM:-0500
TZOFFSETTO:-0400
DTSTART:20190310T070000
END:DAYLIGHT
BEGIN:STANDARD
TZNAME:EST
TZOFFSETFROM:-0400
TZOFFSETTO:-0500
DTSTART:20181104T060000
END:STANDARD
END:VTIMEZONE
BEGIN:VEVENT
UID:69ebfa1e6c9d4
DTSTART;TZID=America/Toronto:20191101T143000
SEQUENCE:0
TRANSP:TRANSPARENT
DTEND;TZID=America/Toronto:20191101T143000
URL:https://uwaterloo.ca/computer-science/events/crysp-speaker-series-priva
 cy-privacy-who-ya-gonna-trust
LOCATION:DC - William G. Davis Computer Research Centre 200 University Aven
 ue West 2585 Waterloo ON N2L 3G1 Canada
SUMMARY:CrySP Speaker Series on Privacy • Privacy: Who Ya Gonna Trust?
CLASS:PUBLIC
DESCRIPTION:CRISPIN COWAN\, LEVIATHAN SECURITY GROUP\n\nPrivacy\, especiall
 y anonymity\, is tricky\, because you don’t want to\ntrust anyone\, lest
  your identity leak\, but you must trust someone\, or\nelse you cannot com
 municate. Threat modeling is rarely used in\nprivacy\, instead most used f
 or prioritizing security hardening\nefforts. 
DTSTAMP:20260424T231750Z
END:VEVENT
END:VCALENDAR