BEGIN:VCALENDAR
VERSION:2.0
PRODID:-//Drupal iCal API//EN
X-WR-CALNAME:Events items teaser
X-WR-TIMEZONE:America/Toronto
BEGIN:VTIMEZONE
TZID:America/Toronto
X-LIC-LOCATION:America/Toronto
BEGIN:DAYLIGHT
TZNAME:EDT
TZOFFSETFROM:-0500
TZOFFSETTO:-0400
DTSTART:20190310T070000
END:DAYLIGHT
BEGIN:STANDARD
TZNAME:EST
TZOFFSETFROM:-0400
TZOFFSETTO:-0500
DTSTART:20181104T060000
END:STANDARD
END:VTIMEZONE
BEGIN:VEVENT
UID:69ec0f30a73df
DTSTART;TZID=America/Toronto:20191025T140000
SEQUENCE:0
TRANSP:TRANSPARENT
DTEND;TZID=America/Toronto:20191025T140000
URL:https://uwaterloo.ca/computer-science/events/data-systems-seminar-serie
 s-connected-data-pushing-envelope
LOCATION:DC - William G. Davis Computer Research Centre 200 University Aven
 ue West 1302 Waterloo ON N2L 3G1 Canada
SUMMARY:Data Systems • Seminar Series — Connected Data: Pushing the\nEn
 velope of Data Analytics Systems
CLASS:PUBLIC
DESCRIPTION:MARCO SERAFINI\, COLLEGE OF INFORMATION AND COMPUTER SCIENCES\
 n_University of Massachusetts Amherst_
DTSTAMP:20260425T004744Z
END:VEVENT
END:VCALENDAR