BEGIN:VCALENDAR
VERSION:2.0
PRODID:-//Drupal iCal API//EN
X-WR-CALNAME:Events items teaser
X-WR-TIMEZONE:America/Toronto
BEGIN:VTIMEZONE
TZID:America/Toronto
X-LIC-LOCATION:America/Toronto
BEGIN:DAYLIGHT
TZNAME:EDT
TZOFFSETFROM:-0500
TZOFFSETTO:-0400
DTSTART:20190310T070000
END:DAYLIGHT
BEGIN:STANDARD
TZNAME:EST
TZOFFSETFROM:-0400
TZOFFSETTO:-0500
DTSTART:20181104T060000
END:STANDARD
END:VTIMEZONE
BEGIN:VEVENT
UID:69ebf90f161b3
DTSTART;TZID=America/Toronto:20190513T143000
SEQUENCE:0
TRANSP:TRANSPARENT
DTEND;TZID=America/Toronto:20190513T143000
URL:https://uwaterloo.ca/computer-science/events/crysp-speaker-series-priva
 cy-doing-internets-dirty-work
LOCATION:DC - William G. Davis Computer Research Centre 200 University Aven
 ue West 1304 Waterloo ON N2L 3G1 Canada
SUMMARY:CrySP Speaker Series on Privacy • Doing the Internet’s Dirty Wo
 rk:\nCommercial Content Moderators as Social Media’s Gatekeepers
CLASS:PUBLIC
DESCRIPTION:SARAH ROBERTS\, DEPARTMENT OF INFORMATION STUDIES\n_Graduate Sc
 hool of Education &amp; Information\, UCLA_
DTSTAMP:20260424T231319Z
END:VEVENT
END:VCALENDAR