BEGIN:VCALENDAR
VERSION:2.0
PRODID:-//Drupal iCal API//EN
X-WR-CALNAME:Events items teaser
X-WR-TIMEZONE:America/Toronto
BEGIN:VTIMEZONE
TZID:America/Toronto
X-LIC-LOCATION:America/Toronto
BEGIN:DAYLIGHT
TZNAME:EDT
TZOFFSETFROM:-0500
TZOFFSETTO:-0400
DTSTART:20190310T070000
END:DAYLIGHT
BEGIN:STANDARD
TZNAME:EST
TZOFFSETFROM:-0400
TZOFFSETTO:-0500
DTSTART:20181104T060000
END:STANDARD
END:VTIMEZONE
BEGIN:VEVENT
UID:69ecaf7fc4bf4
DTSTART;TZID=America/Toronto:20190425T140000
SEQUENCE:0
TRANSP:TRANSPARENT
DTEND;TZID=America/Toronto:20190425T140000
URL:https://uwaterloo.ca/computer-science/events/phd-seminar-human-computer
 -interaction-games-user-research
LOCATION:EC1 - East Campus 1 200 University Ave West Games Institute\, Room
  1323 Waterloo ON N2L 3G1 Canada
SUMMARY:PhD Seminar • Human-Computer Interaction (Games User Research) 
 —\nLeveraging Asymmetry and Interdependence to Enhance Social\nConnected
 ness in Cooperative Digital Games
CLASS:PUBLIC
DESCRIPTION:JOHN HARRIS\, PHD CANDIDATE\n_David R. Cheriton School of Compu
 ter Science_
DTSTAMP:20260425T121143Z
END:VEVENT
END:VCALENDAR