BEGIN:VCALENDAR
VERSION:2.0
PRODID:-//Drupal iCal API//EN
X-WR-CALNAME:Events items teaser
X-WR-TIMEZONE:America/Toronto
BEGIN:VTIMEZONE
TZID:America/Toronto
X-LIC-LOCATION:America/Toronto
BEGIN:DAYLIGHT
TZNAME:EDT
TZOFFSETFROM:-0500
TZOFFSETTO:-0400
DTSTART:20260308T070000
END:DAYLIGHT
BEGIN:STANDARD
TZNAME:EST
TZOFFSETFROM:-0400
TZOFFSETTO:-0500
DTSTART:20251102T060000
END:STANDARD
END:VTIMEZONE
BEGIN:VEVENT
UID:69eb7a1609736
DTSTART;TZID=America/Toronto:20260520T100000
SEQUENCE:0
TRANSP:TRANSPARENT
DTEND;TZID=America/Toronto:20260520T113000
URL:https://uwaterloo.ca/computer-science/events/dls-margaret-anne-storey
LOCATION:DC - William G. Davis Computer Research Centre 200 University Aven
 ue West Hybrid: DC 1302 | Online distinguished lecture Waterloo ON N2L 3G1
  Canada
SUMMARY:DLS: Margaret-Anne Storey — How Generative and Agentic AI is\nDis
 rupting Software Development
CLASS:PUBLIC
DESCRIPTION:PLEASE NOTE: THIS DISTINGUISHED LECTURE WILL TAKE PLACE IN DC 1
 302 AND\nONLINE.\n\nMARGARET-ANNE STOREY\, PROFESSOR\n_Canada Research Cha
 ir in Human and Social Aspects of Software\nEngineering\nComputer Science\
 , University of Victoria_
DTSTAMP:20260424T141134Z
END:VEVENT
END:VCALENDAR