BEGIN:VCALENDAR
VERSION:2.0
PRODID:-//Drupal iCal API//EN
X-WR-CALNAME:Events items teaser
X-WR-TIMEZONE:America/Toronto
BEGIN:VTIMEZONE
TZID:America/Toronto
X-LIC-LOCATION:America/Toronto
BEGIN:DAYLIGHT
TZNAME:EDT
TZOFFSETFROM:-0500
TZOFFSETTO:-0400
DTSTART:20260308T070000
END:DAYLIGHT
BEGIN:STANDARD
TZNAME:EST
TZOFFSETFROM:-0400
TZOFFSETTO:-0500
DTSTART:20251102T060000
END:STANDARD
END:VTIMEZONE
BEGIN:VEVENT
UID:69e6c1373f174
DTSTART;TZID=America/Toronto:20260504T100000
SEQUENCE:0
TRANSP:TRANSPARENT
DTEND;TZID=America/Toronto:20260504T110000
URL:https://uwaterloo.ca/computer-science/events/masters-thesis-presentatio
 n-ai-ml-information-extraction-for-low-resource-schemas
LOCATION:DC - William G. Davis Computer Research Centre 200 University Aven
 ue West Hybrid: DC 2310 | Online master’s thesis presentation Waterloo O
 N N2L 3G1 Canada
SUMMARY:Master’s Thesis Presentation • Artificial Intelligence | Machin
 e\nLearning • Information Extraction for Low-Resource Schemas
CLASS:PUBLIC
DESCRIPTION:PLEASE NOTE: THIS MASTER’S THESIS PRESENTATION WILL TAKE PLAC
 E IN DC\n2310 AND ONLINE.\n\nJUSTIN XU\, MASTER’S CANDIDATE\n_David R. C
 heriton School of Computer Science_\n\nSUPERVISOR: Professor Pascal Poupar
 t
DTSTAMP:20260421T001343Z
END:VEVENT
END:VCALENDAR