BEGIN:VCALENDAR
VERSION:2.0
PRODID:-//Drupal iCal API//EN
X-WR-CALNAME:Events items teaser
X-WR-TIMEZONE:America/Toronto
BEGIN:VTIMEZONE
TZID:America/Toronto
X-LIC-LOCATION:America/Toronto
BEGIN:DAYLIGHT
TZNAME:EDT
TZOFFSETFROM:-0500
TZOFFSETTO:-0400
DTSTART:20250309T070000
END:DAYLIGHT
BEGIN:STANDARD
TZNAME:EST
TZOFFSETFROM:-0400
TZOFFSETTO:-0500
DTSTART:20251102T060000
END:STANDARD
END:VTIMEZONE
BEGIN:VEVENT
UID:69e682b9cc3f4
DTSTART;TZID=America/Toronto:20251111T100000
SEQUENCE:0
TRANSP:TRANSPARENT
DTEND;TZID=America/Toronto:20251111T113000
URL:https://uwaterloo.ca/computer-science/events/dls-erol-gelenbe
LOCATION:DC - William G. Davis Computer Research Centre 200 University Aven
 ue West Hybrid: DC 1302 | Online distinguished lecture Waterloo ON N2L 3G1
  Canada
SUMMARY:DLS: Erol Gelenbe — The Random Neural Network and its Application
 s\nto Image Processing\, Network Routing\, and Cyberattack Detection
CLASS:PUBLIC
DESCRIPTION:PLEASE NOTE: THIS DISTINGUISHED LECTURE WILL TAKE PLACE IN DC 1
 302 AND\nONLINE.\n\nEROL GELENBE\, PROFESSOR\n_Institute of Theoretical an
 d Applied Informatics\nPolish Academy of Sciences _
DTSTAMP:20260420T194705Z
END:VEVENT
END:VCALENDAR