BEGIN:VCALENDAR
VERSION:2.0
PRODID:-//Drupal iCal API//EN
X-WR-CALNAME:Events items teaser
X-WR-TIMEZONE:America/Toronto
BEGIN:VTIMEZONE
TZID:America/Toronto
X-LIC-LOCATION:America/Toronto
BEGIN:DAYLIGHT
TZNAME:EDT
TZOFFSETFROM:-0500
TZOFFSETTO:-0400
DTSTART:20200308T070000
END:DAYLIGHT
BEGIN:STANDARD
TZNAME:EST
TZOFFSETFROM:-0400
TZOFFSETTO:-0500
DTSTART:20201101T060000
END:STANDARD
END:VTIMEZONE
BEGIN:VEVENT
UID:69e7be3ac339d
DTSTART;TZID=America/Toronto:20210129T130000
SEQUENCE:0
TRANSP:TRANSPARENT
DTEND;TZID=America/Toronto:20210129T130000
URL:https://uwaterloo.ca/computer-science/events/phd-seminar-computer-graph
 ics-a-primitive-for-manual-hatching
LOCATION:200 University Avenue West Online PhD seminar Waterloo ON N2L 3G1 
 Canada
SUMMARY:PhD Seminar • Computer Graphics — A Primitive for Manual Hatchi
 ng
CLASS:PUBLIC
DESCRIPTION:PLEASE NOTE: THIS PHD SEMINAR WILL BE GIVEN ONLINE.\n\nGREG PHI
 LBRICK\, PHD CANDIDATE\n_David R. Cheriton School of Computer Science_\n\
 nSUPERVISOR: Professor Craig Kaplan
DTSTAMP:20260421T181314Z
END:VEVENT
END:VCALENDAR